BEGIN:VCALENDAR
VERSION:2.0
PRODID:-//Contratero//ES
CALSCALE:GREGORIAN
METHOD:PUBLISH
BEGIN:VEVENT
UID:NSP 3/21@contratero.es
DTSTAMP:20260420T084017Z
DTSTART:20211116T235959
DTEND:20211117T005959
SUMMARY:Cierre: Contratación de las licencias Paytef para los caje
DESCRIPTION:Contratación de las licencias Paytef para los cajeros del aparcamiento de L' Umbracle de la Ciudad de las Artes y de las Ciencias\, SA\\n\\nOrganismo: Dirección General de la Ciudad de las Artes y de las Ciencias S.A.\\n\\nVer en Contratero: https://contratero.es/contracts/NSP 3/21
URL:https://contratero.es/contracts/NSP 3/21
STATUS:CONFIRMED
BEGIN:VALARM
TRIGGER:-P1D
ACTION:DISPLAY
DESCRIPTION:Recordatorio: Contratación de las licencias 
END:VALARM
END:VEVENT
END:VCALENDAR